BEGIN:VCALENDAR
VERSION:2.0
PRODID:icalendar-ruby
CALSCALE:GREGORIAN
METHOD:PUBLISH
BEGIN:VEVENT
DTSTAMP:20260421T035132Z
UID:7-1362398@njfm.org
DTSTART:20260802T180000Z
DTEND:20260802T190000Z
CLASS:PUBLIC
CREATED:20260420T165124
DESCRIPTION:"Celebrating Our King of Glory JESUS"\nJoin us this Sunday @ Ne
 w Joy for a time of exalting JESUS our King. \nSundays – Worship @11am 
 - In Person &amp\; Conference line\n\nWednesdays -Bible Talk @6:50pm (Conf
 erence Line only)\nTo Connect via Conference Line (339) 207-8743\n\n \n
  
LAST-MODIFIED:20260420T165124
LOCATION:New Joy Fellowship
SUMMARY:NJF Worship Experience
URL;VALUE=URI:https://www.njfm.org/events/njf-worship-experience/2026-08-02
ATTACH;FILENAME=sunrise with cross.jpg;FMTTYPE=image/jpeg:https://dq5pwpg1q
 8ru0.cloudfront.net/2021/04/03/11/20/22/dbe44b4c-0383-45c0-82c8-bd31b32944
 5f/sunrise%20with%20cross.jpg
ATTACH;FILENAME=worship pic4.jpg;FMTTYPE=image/jpeg:https://dq5pwpg1q8ru0.c
 loudfront.net/2021/04/03/11/28/53/9a467831-ad55-4379-aa74-2b68834ceb37/wor
 ship%20pic4.jpg
ATTACH;FILENAME=worship9.jfif;FMTTYPE=image/jpeg:https://dq5pwpg1q8ru0.clou
 dfront.net/2021/04/03/11/33/53/6c20e7c8-d87d-4a82-8796-cc74eec87735/worshi
 p9.jfif
ATTACH;FILENAME=cross with man kneeling.jpg;FMTTYPE=image/jpeg:https://dq5p
 wpg1q8ru0.cloudfront.net/2021/04/03/11/35/56/fb4780c7-cce8-4a38-8bbc-1c879
 b945f8b/cross%20with%20man%20kneeling.jpg
END:VEVENT
END:VCALENDAR
